BEGIN:VCALENDAR
PRODID:Solar Promotion International GmbH
CALSCALE:GREGORIAN
BEGIN:VEVENT
DTSTAMP:20260420T052502Z
DTSTART:20230623T140000
DTEND:20230623T150000
SUMMARY:Armazenamento de energia elétrica – informações sobre as últimas tecnologias e  tendências de mercado
TZID:Europe/Berlin
LAST-MODIFIED:20240910T093215Z
DESCRIPTION:Neste webinar\, abordaremos as últimas tendências e tecnologias de mercado o para armazenamento estacionário de energia elétrica.
SEQUENCE:1776662702
URL:https://www.thesmartere.com.br/webinarios/armazenamento-de-energia-eletrica-informacoes-sobre-as-ultimas-tendencias-tecnologias-e-de-mercado
LOCATION:The smarter E South America\, 23 de junho de 2023
UID:a9b90d36-2730-46a4-8734-b1324f8f9979
END:VEVENT
END:VCALENDAR
