BEGIN:VCALENDAR
PRODID:Solar Promotion International GmbH
CALSCALE:GREGORIAN
BEGIN:VEVENT
DTSTAMP:20260423T104116Z
DTSTART:20250515T110000
DTEND:20250515T120000
SUMMARY:Webinar on Renewable Energy in Brazil – Photovoltaics\, Storage Technologies\, and E-Mobility: Current Market Insights and Outlook
TZID:Europe/Berlin
LAST-MODIFIED:20250522T143731Z
DESCRIPTION:With its vast renewable energy potential and increasing demands for grid stability and sustainable transportation\, the country offers attractive opportunities – but also presents certain challenges.
SEQUENCE:1776940876
URL:https://www.thesmartere.com.br/webinars/renewable-energy-in-brazil
LOCATION:The smarter E South America\, 
UID:14747de0-0d07-4256-bcef-c982007a51a3
END:VEVENT
END:VCALENDAR
